BEGIN:VCALENDAR
PRODID:-//AT Content Types//AT Event//EN
VERSION:2.0
METHOD:PUBLISH
BEGIN:VEVENT
DTSTAMP:20260423T003732Z
CREATED:20230523T095624Z
UID:ATEvent-4198a67721554c9dbba1a75ce3eeede1
LAST-MODIFIED:20231023T095341Z
SUMMARY:XIII CORSO DI AGGIORNAMENTO NON SOLO PARKINSON | I DISTURBI NEUROLOGICI FUNZIONALI. LA TERAPIA DEL PARKINSON OGGI E DOMANI
DTSTART:20230921T220000Z
DTEND:20230921T220000Z
LOCATION:REGGIO EMILIA
CONTACT:CHIARA CIAMPAGLIA\, 0532 762404\, convegni@unife.it
CLASS:PUBLIC
END:VEVENT
END:VCALENDAR
