BEGIN:VCALENDAR
PRODID:-//AT Content Types//AT Event//EN
VERSION:2.0
METHOD:PUBLISH
BEGIN:VEVENT
DTSTAMP:20260424T143356Z
CREATED:20230614T101619Z
UID:ATEvent-38693cf7619b4baa87ef17f3cebac0cb
LAST-MODIFIED:20231207T115420Z
SUMMARY:XIII CORSO DI AGGIORNAMENTO NON SOLO PARKINSON | TREMORI E DINTORNI
DTSTART:20231123T230000Z
DTEND:20231123T230000Z
LOCATION:TREVISO
CONTACT:CHIARA CIAMPAGLIA\, 0532 762404\, convegni@unife.it
CLASS:PUBLIC
END:VEVENT
END:VCALENDAR
