BEGIN:VCALENDAR
PRODID:-//AT Content Types//AT Event//EN
VERSION:1.0
BEGIN:VEVENT
DTSTART:20150621T220000Z
DTEND:20150624T220000Z
DCREATED:20141219T113443Z
UID:ATEvent-7bae37d2263b4357847229cad3f8d994
SEQUENCE:0
LAST-MODIFIED:20150302T121344Z
SUMMARY:Ph.D Summer School AIAS - ADVANCED METHODS FOR MATERIAL TESTING
DESCRIPTION:Ferrara (Italy) 22-25 June 2015
LOCATION:Ferrara (Italy)\, University of Ferrara
PRIORITY:3
TRANSP:0
END:VEVENT
END:VCALENDAR
