BEGIN:VCALENDAR
PRODID:-//AT Content Types//AT Event//EN
VERSION:1.0
BEGIN:VEVENT
DTSTART:20130223T160000Z
DTEND:20130622T110000Z
DCREATED:20140821T073110Z
UID:ATEvent-7192b8aa322a404896b451e26c48fc01
SEQUENCE:0
LAST-MODIFIED:20130114T121728Z
SUMMARY:CORSO BASE DI PREVENZIONE INCENDI [Accreditato ai sensi del DM 05 agosto 2011 (Aut. Min. Ric. 05.09.2012) e D.Lgs 81/08\, art.32]
LOCATION:FERRARA\, TEKNEHUB C/O DIPARTIMENTO DI ARCHITETTURA\, Via Quartieri 8
PRIORITY:3
TRANSP:0
END:VEVENT
END:VCALENDAR
